BEGIN:VCALENDAR
VERSION:2.0
PRODID:-//eventon.com NONSGML v1.0//EN
CALSCALE:GREGORIAN
METHOD:PUBLISH
BEGIN:VEVENT
UID:69e9d80ad3ea8
DTSTAMP:20260423T082754Z
DTSTART:20240202T233000Z
DTEND:20240203T010000Z
LOCATION:Junortoun General Store and Post Office 711 McIvor Highway
SUMMARY:Coffee with a Councillor
DESCRIPTION:Come and share a coffee with Cr Margaret O&#8217;Rourke\,  Depu
 ty Mayor Cr Matthew Evans and Cr Greg Penna and discuss the important issue
 s in Junortoun and Eppalock ward.\nhttps://www.junortoun.vic.au/events/coff
 ee-with-a-councillor/
URL:https://www.junortoun.vic.au/events/coffee-with-a-councillor/
END:VEVENT
END:VCALENDAR